BEGIN:VCALENDAR
VERSION:2.0
PRODID:-//Sabre//Sabre VObject 4.5.8//EN
CALSCALE:GREGORIAN
BEGIN:VEVENT
UID:sabre-vobject-28860c0e-89a1-4304-bc22-e4c0629ca561
DTSTAMP:20260423T142424Z
SUMMARY:Feier der Erstkommunion\n- Kollekte für die Belange unserer Pfarre
 i
DESCRIPTION:https://www2.bistum-augsburg.de/gottesdienste/feier-der-erstkom
 munion-kollekte-fuer-die-belange-unserer-pfarrei_id1728118
DTSTART;TZID=Europe/Berlin:20260425T103000
DURATION:PT30M
LOCATION:St. Georg\, St.-Georg-Straße 1\, 87463 Reicholzried
END:VEVENT
END:VCALENDAR
