BEGIN:VCALENDAR
VERSION:2.0
PRODID:-//Sabre//Sabre VObject 4.5.8//EN
CALSCALE:GREGORIAN
BEGIN:VEVENT
UID:sabre-vobject-c6f85d38-84e9-40ea-be0a-4c5da378b040
DTSTAMP:20260424T001322Z
SUMMARY:Messfeier
DESCRIPTION:https://www2.bistum-augsburg.de/gottesdienste/messfeier_id17281
 35
DTSTART;TZID=Europe/Berlin:20260510T090000
DURATION:PT30M
LOCATION:St. Ulrich
END:VEVENT
END:VCALENDAR
