BEGIN:VCALENDAR
VERSION:2.0
PRODID:-//Sabre//Sabre VObject 4.5.8//EN
CALSCALE:GREGORIAN
BEGIN:VEVENT
UID:sabre-vobject-66d2729c-2a53-4841-a91f-3a5ff0c6e322
DTSTAMP:20260426T001413Z
SUMMARY:Hochamt
DESCRIPTION:https://www2.bistum-augsburg.de/gottesdienste/hochamt_id1728137
DTSTART;TZID=Europe/Berlin:20260514T103000
DURATION:PT30M
LOCATION:St. Ulrich
END:VEVENT
END:VCALENDAR
