BEGIN:VCALENDAR
VERSION:2.0
PRODID:-//Sabre//Sabre VObject 4.5.8//EN
CALSCALE:GREGORIAN
BEGIN:VEVENT
UID:sabre-vobject-59c79b5b-0d11-4f97-ba17-7af07b631b00
DTSTAMP:20260425T161554Z
SUMMARY:Maiandacht (bei Regen in der Krypta)
DESCRIPTION:https://www2.bistum-augsburg.de/gottesdienste/maiandacht-bei-re
 gen-in-der-krypta_id1728140
DTSTART;TZID=Europe/Berlin:20260508T193000
DURATION:PT30M
LOCATION:Basilica minor St. Alexander und Theodor
END:VEVENT
END:VCALENDAR
