BEGIN:VCALENDAR
VERSION:2.0
PRODID:-//Sabre//Sabre VObject 4.5.8//EN
CALSCALE:GREGORIAN
BEGIN:VEVENT
UID:sabre-vobject-91531579-e113-451c-924b-f13454d66a23
DTSTAMP:20260425T192339Z
SUMMARY:Gebet der Heilig-Geist-Novene
DESCRIPTION:https://www2.bistum-augsburg.de/gottesdienste/gebet-der-heilig-
 geist-novene_id1728168
DTSTART;TZID=Europe/Berlin:20260520T180000
DURATION:PT30M
LOCATION:Basilica minor St. Alexander und Theodor
END:VEVENT
END:VCALENDAR
