BEGIN:VCALENDAR
VERSION:2.0
PRODID:-//Sabre//Sabre VObject 4.5.8//EN
CALSCALE:GREGORIAN
BEGIN:VEVENT
UID:sabre-vobject-710c6220-368b-4750-8d6f-02d317c475f3
DTSTAMP:20260424T143231Z
SUMMARY:Pilgermesse für die Pfarreiengemeinschaft in Andechs
DESCRIPTION:https://www2.bistum-augsburg.de/gottesdienste/pilgermesse-fuer-
 die-pfarreiengemeinschaft-in-andechs_id1728177
DTSTART;TZID=Europe/Berlin:20260523T110000
DURATION:PT30M
LOCATION:Zu den heiligen Engeln\, Schulstraße 6\, 82269 Geltendorf
END:VEVENT
END:VCALENDAR
