BEGIN:VCALENDAR
VERSION:2.0
PRODID:-//Sabre//Sabre VObject 4.5.8//EN
CALSCALE:GREGORIAN
BEGIN:VEVENT
UID:sabre-vobject-15890ad8-aaad-4ec4-b991-327ae2bbf80d
DTSTAMP:20260424T161638Z
SUMMARY:Dankandacht für die Pfarreiengemeinschaft in Andechs
DESCRIPTION:https://www2.bistum-augsburg.de/gottesdienste/dankandacht-fuer-
 die-pfarreiengemeinschaft-in-andechs_id1728178
DTSTART;TZID=Europe/Berlin:20260523T140000
DURATION:PT30M
LOCATION:Zu den heiligen Engeln\, Schulstraße 6\, 82269 Geltendorf
END:VEVENT
END:VCALENDAR
