BEGIN:VCALENDAR
VERSION:2.0
PRODID:-//Sabre//Sabre VObject 4.5.8//EN
CALSCALE:GREGORIAN
BEGIN:VEVENT
UID:sabre-vobject-e239808c-aa95-42f5-9ecf-8baabb34351c
DTSTAMP:20260424T143251Z
SUMMARY:Maiandacht an der Waldkapelle gest. vom PGR
DESCRIPTION:https://www2.bistum-augsburg.de/gottesdienste/maiandacht-an-der
 -waldkapelle-gest-vom-pgr_id1728180
DTSTART;TZID=Europe/Berlin:20260524T183000
DURATION:PT30M
LOCATION:Zu den heiligen Engeln\, Schulstraße 6\, 82269 Geltendorf
END:VEVENT
END:VCALENDAR
