BEGIN:VCALENDAR
VERSION:2.0
PRODID:-//Sabre//Sabre VObject 4.5.8//EN
CALSCALE:GREGORIAN
BEGIN:VEVENT
UID:sabre-vobject-7a52ad7b-1229-456e-9e68-51516890f43a
DTSTAMP:20260424T192037Z
SUMMARY:Hochfestgottesdienst anschl. Fronleichnamsprozession
DESCRIPTION:https://www2.bistum-augsburg.de/gottesdienste/hochfestgottesdie
 nst-anschl-fronleichnamsprozession_id1728183
DTSTART;TZID=Europe/Berlin:20260604T093000
DURATION:PT30M
LOCATION:Zu den heiligen Engeln\, Schulstraße 6\, 82269 Geltendorf
END:VEVENT
END:VCALENDAR
