BEGIN:VCALENDAR
VERSION:2.0
PRODID:-//Sabre//Sabre VObject 4.5.8//EN
CALSCALE:GREGORIAN
BEGIN:VEVENT
UID:sabre-vobject-291665ec-299c-4a3b-bc51-810ca1180bf6
DTSTAMP:20260424T143256Z
SUMMARY:Bittmesse beim Feldkreuz am Radweg für die Pfarreiengemeinschaft
DESCRIPTION:https://www2.bistum-augsburg.de/gottesdienste/bittmesse-beim-fe
 ldkreuz-am-radweg-fuer-die-pfarreiengemeinschaft_id1728184
DTSTART;TZID=Europe/Berlin:20260525T090000
DURATION:PT30M
LOCATION:Zu den heiligen Engeln\, Schulstraße 6\, 82269 Geltendorf
END:VEVENT
END:VCALENDAR
