BEGIN:VCALENDAR
VERSION:2.0
PRODID:-//Sabre//Sabre VObject 4.5.8//EN
CALSCALE:GREGORIAN
BEGIN:VEVENT
UID:sabre-vobject-6c762a65-b446-461b-88de-6245242bc764
DTSTAMP:20260424T154204Z
SUMMARY:Maiandacht gest. vom WGF-Team
DESCRIPTION:https://www2.bistum-augsburg.de/gottesdienste/maiandacht-gest-v
 om-wgf-team_id1728190
DTSTART;TZID=Europe/Berlin:20260531T183000
DURATION:PT30M
LOCATION:Zu den heiligen Engeln\, Schulstraße 6\, 82269 Geltendorf
END:VEVENT
END:VCALENDAR
