BEGIN:VCALENDAR
VERSION:2.0
PRODID:-//Sabre//Sabre VObject 4.5.8//EN
CALSCALE:GREGORIAN
BEGIN:VEVENT
UID:sabre-vobject-38d105bb-3b2c-4c79-985e-96894db42a50
DTSTAMP:20260423T005315Z
SUMMARY:Diakonenweihen von Kandidaten der Bruderschaft St. Petrus Wigratzba
 d
DESCRIPTION:https://www2.bistum-augsburg.de/gottesdienste/diakonenweihen-vo
 n-kandidaten-der-bruderschaft-st-petrus-wigratzbad_id1728234
DTSTART;TZID=Europe/Berlin:20260502T160000
DURATION:PT30M
LOCATION:Basilica minor St. Alexander und Theodor
END:VEVENT
END:VCALENDAR
