BEGIN:VCALENDAR
VERSION:2.0
PRODID:-//Sabre//Sabre VObject 4.5.8//EN
CALSCALE:GREGORIAN
BEGIN:VEVENT
UID:sabre-vobject-2fec9020-b7bc-481e-9a6d-10dbe58acde7
DTSTAMP:20260425T141115Z
SUMMARY:Maiandacht
DESCRIPTION:https://www2.bistum-augsburg.de/gottesdienste/maiandacht_id1728
 272
DTSTART;TZID=Europe/Berlin:20260522T183000
DURATION:PT30M
LOCATION:Christkönig
END:VEVENT
END:VCALENDAR
