BEGIN:VCALENDAR
VERSION:2.0
PRODID:-//Sabre//Sabre VObject 4.5.8//EN
CALSCALE:GREGORIAN
BEGIN:VEVENT
UID:sabre-vobject-617633be-1968-4085-923b-51c8e444df18
DTSTAMP:20260423T021409Z
SUMMARY:A mi Go - Abend mit Gott - Gott macht sich klein
DESCRIPTION:https://www2.bistum-augsburg.de/gottesdienste/a-mi-go-abend-mit
 -gott-gott-macht-sich-klein_id1728277
DTSTART;TZID=Europe/Berlin:20260429T174500
DURATION:PT30M
LOCATION:St. Georg
END:VEVENT
END:VCALENDAR
