BEGIN:VCALENDAR
VERSION:2.0
PRODID:-//Sabre//Sabre VObject 4.5.8//EN
CALSCALE:GREGORIAN
BEGIN:VEVENT
UID:sabre-vobject-63fea8ee-cefb-4225-87ca-4cbc3527de1d
DTSTAMP:20260424T220544Z
SUMMARY:Heilige Messe
DESCRIPTION:https://www2.bistum-augsburg.de/gottesdienste/heilige-messe_id1
 728320
DTSTART;TZID=Europe/Berlin:20260519T083000
DURATION:PT30M
LOCATION:St. Franziskus
END:VEVENT
END:VCALENDAR
