BEGIN:VCALENDAR
VERSION:2.0
PRODID:-//Sabre//Sabre VObject 4.5.8//EN
CALSCALE:GREGORIAN
BEGIN:VEVENT
UID:sabre-vobject-9fb015e9-efc3-48c4-ae9b-0c4bb8910120
DTSTAMP:20260424T114935Z
SUMMARY:Heilige Messe
DESCRIPTION:https://www2.bistum-augsburg.de/gottesdienste/heilige-messe_id1
 728321
DTSTART;TZID=Europe/Berlin:20260522T080000
DURATION:PT30M
LOCATION:St. Franziskus
END:VEVENT
END:VCALENDAR
