BEGIN:VCALENDAR
VERSION:2.0
PRODID:-//Sabre//Sabre VObject 4.5.8//EN
CALSCALE:GREGORIAN
BEGIN:VEVENT
UID:sabre-vobject-9e79ebb7-4632-4c80-90a4-a2f5225486fc
DTSTAMP:20260424T033057Z
SUMMARY:Rosenkranz mit Anbetung vor dem Allerheiligsten
DESCRIPTION:https://www2.bistum-augsburg.de/gottesdienste/rosenkranz-mit-an
 betung-vor-dem-allerheiligsten_id1728322
DTSTART;TZID=Europe/Berlin:20260522T083000
DURATION:PT30M
LOCATION:St. Franziskus
END:VEVENT
END:VCALENDAR
