BEGIN:VCALENDAR
VERSION:2.0
PRODID:-//Sabre//Sabre VObject 4.5.8//EN
CALSCALE:GREGORIAN
BEGIN:VEVENT
UID:sabre-vobject-e170aa66-0be8-43e1-b8de-61ede332e44a
DTSTAMP:20260424T062142Z
SUMMARY:Eucharistiefeier mit Kinderevangelium
DESCRIPTION:https://www2.bistum-augsburg.de/gottesdienste/eucharistiefeier-
 mit-kinderevangelium_id1728333
DTSTART;TZID=Europe/Berlin:20260517T100000
DURATION:PT30M
LOCATION:Zu den heiligen Engeln\, Schulstraße 6\, 82269 Geltendorf
END:VEVENT
END:VCALENDAR
