BEGIN:VCALENDAR
VERSION:2.0
PRODID:-//Sabre//Sabre VObject 4.5.8//EN
CALSCALE:GREGORIAN
BEGIN:VEVENT
UID:sabre-vobject-4d9caa8f-f5d0-4ca2-ad02-94b12b63c94c
DTSTAMP:20260426T015339Z
SUMMARY:Maiandacht (bei Regen in der Krypta)
DESCRIPTION:https://www2.bistum-augsburg.de/gottesdienste/maiandacht-bei-re
 gen-in-der-krypta_id1728337
DTSTART;TZID=Europe/Berlin:20260522T193000
DURATION:PT30M
LOCATION:Basilica minor St. Alexander und Theodor
END:VEVENT
END:VCALENDAR
