BEGIN:VCALENDAR
VERSION:2.0
PRODID:-//Sabre//Sabre VObject 4.5.8//EN
CALSCALE:GREGORIAN
BEGIN:VEVENT
UID:sabre-vobject-8d279abe-b6c4-49ed-99f7-9b890118672e
DTSTAMP:20260424T192946Z
SUMMARY:40 Minuten Orgelmusik (Kurt Renner\, 2. Basilikaorganist)
DESCRIPTION:https://www2.bistum-augsburg.de/gottesdienste/40-minuten-orgelm
 usik-kurt-renner-2-basilikaorganist_id1728341
DTSTART;TZID=Europe/Berlin:20260523T160000
DURATION:PT30M
LOCATION:Basilica minor St. Alexander und Theodor
END:VEVENT
END:VCALENDAR
