BEGIN:VCALENDAR
VERSION:2.0
PRODID:-//Sabre//Sabre VObject 4.5.8//EN
CALSCALE:GREGORIAN
BEGIN:VEVENT
UID:sabre-vobject-85b98632-b896-4bcf-a4b1-bef934160b65
DTSTAMP:20260425T175639Z
SUMMARY:Messfeier
DESCRIPTION:https://www2.bistum-augsburg.de/gottesdienste/messfeier_id17283
 44
DTSTART;TZID=Europe/Berlin:20260520T191500
DURATION:PT30M
LOCATION:St. Georg
END:VEVENT
END:VCALENDAR
