BEGIN:VCALENDAR
VERSION:2.0
PRODID:-//Sabre//Sabre VObject 4.5.8//EN
CALSCALE:GREGORIAN
BEGIN:VEVENT
UID:sabre-vobject-c400f8c3-3294-41e5-a88f-66382bbfbac6
DTSTAMP:20260425T203745Z
SUMMARY:Wortgottesfeier mit Kommunionspendung   e n t f ä l l t
DESCRIPTION:https://www2.bistum-augsburg.de/gottesdienste/wortgottesfeier-m
 it-kommunionspendung-e-n-t-f-ae-l-l-t_id1728353
DTSTART;TZID=Europe/Berlin:20260426T180000
DURATION:PT30M
LOCATION:Christkönig
END:VEVENT
END:VCALENDAR
