BEGIN:VCALENDAR
VERSION:2.0
PRODID:-//Sabre//Sabre VObject 4.5.8//EN
CALSCALE:GREGORIAN
BEGIN:VEVENT
UID:sabre-vobject-94579ef5-11ab-4a40-b924-b23a7d6cc285
DTSTAMP:20260424T083823Z
SUMMARY:Trauung von Jakob und Alena Kirmaier\, geb. Fischer
DESCRIPTION:https://www2.bistum-augsburg.de/gottesdienste/trauung-von-jakob
 -und-alena-kirmaier-geb-fischer_id1728378
DTSTART;TZID=Europe/Berlin:20260509T140000
DURATION:PT30M
LOCATION:St. Stephan
END:VEVENT
END:VCALENDAR
