BEGIN:VCALENDAR
VERSION:2.0
PRODID:-//Sabre//Sabre VObject 4.5.8//EN
CALSCALE:GREGORIAN
BEGIN:VEVENT
UID:sabre-vobject-19ac5b22-a251-4b4b-b5dd-21cb0302540a
DTSTAMP:20260423T142419Z
SUMMARY:Pfarrgottesdienst\n- Kollekte für den Blumenschmuck in unserer Kir
 che\n
DESCRIPTION:https://www2.bistum-augsburg.de/gottesdienste/pfarrgottesdienst
 -kollekte-fuer-den-blumenschmuck-in-unserer-kirche_id1728386
DTSTART;TZID=Europe/Berlin:20260503T090000
DURATION:PT30M
LOCATION:St. Georg\, St.-Georg-Straße 1\, 87463 Reicholzried
END:VEVENT
END:VCALENDAR
