BEGIN:VCALENDAR
VERSION:2.0
PRODID:-//Sabre//Sabre VObject 4.5.8//EN
CALSCALE:GREGORIAN
BEGIN:VEVENT
UID:sabre-vobject-827a4f55-d980-4b47-83a3-ae1998a8304b
DTSTAMP:20260425T034309Z
SUMMARY:Vorabendmesse zum Sonntag
DESCRIPTION:https://www2.bistum-augsburg.de/gottesdienste/vorabendmesse-zum
 -sonntag_id1728388
DTSTART;TZID=Europe/Berlin:20260516T191500
DURATION:PT30M
LOCATION:St. Johannes Baptist\, St.-Johannes-Straße 3\, 87650 Baisweil
END:VEVENT
END:VCALENDAR
