BEGIN:VCALENDAR
VERSION:2.0
PRODID:-//Sabre//Sabre VObject 4.5.8//EN
CALSCALE:GREGORIAN
BEGIN:VEVENT
UID:sabre-vobject-f8febcc5-f0c5-44b4-bdf5-294728f789e6
DTSTAMP:20260424T113232Z
SUMMARY:"Komm zu Jesus" Stille Anbetung durchgehend bis Mittwoch 22 Uhr
DESCRIPTION:https://www2.bistum-augsburg.de/gottesdienste/komm-zu-jesus-sti
 lle-anbetung-durchgehend-bis-mittwoch-22-uhr_id1728421
DTSTART;TZID=Europe/Berlin:20260505T090000
DURATION:PT30M
LOCATION:Basilica minor St. Alexander und Theodor
END:VEVENT
END:VCALENDAR
