BEGIN:VCALENDAR
VERSION:2.0
PRODID:-//Sabre//Sabre VObject 4.5.8//EN
CALSCALE:GREGORIAN
BEGIN:VEVENT
UID:sabre-vobject-118eaf44-b58a-4a02-9fb9-772a4b3f439c
DTSTAMP:20260424T170133Z
SUMMARY:Messfeier
DESCRIPTION:https://www2.bistum-augsburg.de/gottesdienste/messfeier_id17284
 22
DTSTART;TZID=Europe/Berlin:20260506T080000
DURATION:PT30M
LOCATION:Basilica minor St. Alexander und Theodor
END:VEVENT
END:VCALENDAR
