BEGIN:VCALENDAR
VERSION:2.0
PRODID:-//Sabre//Sabre VObject 4.5.8//EN
CALSCALE:GREGORIAN
BEGIN:VEVENT
UID:sabre-vobject-edd7847b-7e3a-4211-bc46-b7adbbcc97c6
DTSTAMP:20260425T020938Z
SUMMARY:Anbetung vor dem Allerheiligsten
DESCRIPTION:https://www2.bistum-augsburg.de/gottesdienste/anbetung-vor-dem-
 allerheiligsten_id1728441
DTSTART;TZID=Europe/Berlin:20260507T190000
DURATION:PT30M
LOCATION:Christkönig
END:VEVENT
END:VCALENDAR
