BEGIN:VCALENDAR
VERSION:2.0
PRODID:-//Sabre//Sabre VObject 4.5.8//EN
CALSCALE:GREGORIAN
BEGIN:VEVENT
UID:sabre-vobject-a135665c-30d1-4ec0-be47-d33b3a2740e4
DTSTAMP:20260425T175730Z
SUMMARY:Hochamt
DESCRIPTION:https://www2.bistum-augsburg.de/gottesdienste/hochamt_id1728450
DTSTART;TZID=Europe/Berlin:20260524T090000
DURATION:PT30M
LOCATION:St. Stephan
END:VEVENT
END:VCALENDAR
