BEGIN:VCALENDAR
VERSION:2.0
PRODID:-//Sabre//Sabre VObject 4.5.8//EN
CALSCALE:GREGORIAN
BEGIN:VEVENT
UID:sabre-vobject-91dfa0ee-7bde-4878-9cea-a85c02ad14a0
DTSTAMP:20260425T183952Z
SUMMARY:Abendgottesdienst
DESCRIPTION:https://www2.bistum-augsburg.de/gottesdienste/abendgottesdienst
 _id1728462
DTSTART;TZID=Europe/Berlin:20260507T183000
DURATION:PT30M
LOCATION:Hlgst. Dreifaltigkeit
END:VEVENT
END:VCALENDAR
