BEGIN:VCALENDAR
VERSION:2.0
PRODID:-//Sabre//Sabre VObject 4.5.8//EN
CALSCALE:GREGORIAN
BEGIN:VEVENT
UID:sabre-vobject-37b3ee23-bc5d-4faa-ae16-c4100ac49e9b
DTSTAMP:20260424T070607Z
SUMMARY:Rosenkranz um die Gaben des Hl. Geistes
DESCRIPTION:https://www2.bistum-augsburg.de/gottesdienste/rosenkranz-um-die
 -gaben-des-hl-geistes_id1728465
DTSTART;TZID=Europe/Berlin:20260518T080000
DURATION:PT30M
LOCATION:St. Wolfgang
END:VEVENT
END:VCALENDAR
