BEGIN:VCALENDAR
VERSION:2.0
PRODID:-//Sabre//Sabre VObject 4.5.8//EN
CALSCALE:GREGORIAN
BEGIN:VEVENT
UID:sabre-vobject-08e51e28-37ff-4000-9930-b6e7e8dd13c0
DTSTAMP:20260424T013646Z
SUMMARY:Requiem u. Urnenbeisetzung von Elisabeth Urbin
DESCRIPTION:https://www2.bistum-augsburg.de/gottesdienste/requiem-u-urnenbe
 isetzung-von-elisabeth-urbin_id1728473
DTSTART;TZID=Europe/Berlin:20260425T103000
DURATION:PT30M
LOCATION:St. Afra
END:VEVENT
END:VCALENDAR
