BEGIN:VCALENDAR
VERSION:2.0
PRODID:-//Sabre//Sabre VObject 4.5.8//EN
CALSCALE:GREGORIAN
BEGIN:VEVENT
UID:sabre-vobject-448ee8b6-72a0-4111-9760-86b63ee166f8
DTSTAMP:20260424T083837Z
SUMMARY:Maiandacht in der Spindeltalkirche
DESCRIPTION:https://www2.bistum-augsburg.de/gottesdienste/maiandacht-in-der
 -spindeltalkirche_id1728482
DTSTART;TZID=Europe/Berlin:20260501T140000
DURATION:PT30M
LOCATION:St. Andreas\, Burgstraße 7\, 91809  Wellheim
END:VEVENT
END:VCALENDAR
