BEGIN:VCALENDAR
VERSION:2.0
PRODID:-//Sabre//Sabre VObject 4.5.8//EN
CALSCALE:GREGORIAN
BEGIN:VEVENT
UID:sabre-vobject-ff329f4f-7831-423b-8eac-d6a8abcc4bd5
DTSTAMP:20260423T082901Z
SUMMARY:Ewige Anbetung in St. Martin Waltenhofen Einladung an alle\; um 16-
 17 Uhr Pfarrgemeinderat - 17-18 Uhr Frauenbund um 18 Uhr Schlussandacht
DESCRIPTION:https://www2.bistum-augsburg.de/gottesdienste/ewige-anbetung-in
 -st-martin-waltenhofen-einladung-an-alle-um-16-17-uhr-pfarrgemeinderat-17-
 18-uhr-frauenbund-um-18-uhr-schlussandacht_id1728485
DTSTART;TZID=Europe/Berlin:20260502T160000
DURATION:PT30M
LOCATION:St. Martin
END:VEVENT
END:VCALENDAR
