BEGIN:VCALENDAR
VERSION:2.0
PRODID:-//Sabre//Sabre VObject 4.5.8//EN
CALSCALE:GREGORIAN
BEGIN:VEVENT
UID:sabre-vobject-2449d6b3-e711-471d-80a3-6844e670bab7
DTSTAMP:20260424T123419Z
SUMMARY:Heilige Messe
DESCRIPTION:https://www2.bistum-augsburg.de/gottesdienste/heilige-messe_id1
 728503
DTSTART;TZID=Europe/Berlin:20260429T080000
DURATION:PT30M
LOCATION:St. Barbara
END:VEVENT
END:VCALENDAR
