BEGIN:VCALENDAR
VERSION:2.0
PRODID:-//Sabre//Sabre VObject 4.5.8//EN
CALSCALE:GREGORIAN
BEGIN:VEVENT
UID:sabre-vobject-7e2de53b-9c6e-4a2f-9f9b-2c4253429ab8
DTSTAMP:20260423T110817Z
SUMMARY:Heilige Messe
DESCRIPTION:https://www2.bistum-augsburg.de/gottesdienste/heilige-messe_id1
 728505
DTSTART;TZID=Europe/Berlin:20260430T103000
DURATION:PT30M
LOCATION:St. Barbara
END:VEVENT
END:VCALENDAR
