BEGIN:VCALENDAR
VERSION:2.0
PRODID:-//Sabre//Sabre VObject 4.5.8//EN
CALSCALE:GREGORIAN
BEGIN:VEVENT
UID:sabre-vobject-e3c9dada-cfe3-4797-a7d7-ad3ceaeb03bd
DTSTAMP:20260423T142404Z
SUMMARY:Markusbittgang von Neuburg nach Wattenweiler zusammen mit den Erstk
 ommunionkindern\; Start an der Pfarrkirche Neuburg\; Abholung Unterwegs du
 rch die Wattenweiler\n- bei schlechter Witterung ent
DESCRIPTION:https://www2.bistum-augsburg.de/gottesdienste/markusbittgang-vo
 n-neuburg-nach-wattenweiler-zusammen-mit-den-erstkommunionkindern-start-an
 -der-pfarrkirche-neuburg-abholung-unterwegs-durch-die-wattenweiler-bei-sch
 lechter-witterung-ent_id1728515
DTSTART;TZID=Europe/Berlin:20260428T171500
DURATION:PT30M
LOCATION:Mariä Himmelfahrt
END:VEVENT
END:VCALENDAR
