BEGIN:VCALENDAR
VERSION:2.0
PRODID:-//Sabre//Sabre VObject 4.5.8//EN
CALSCALE:GREGORIAN
BEGIN:VEVENT
UID:sabre-vobject-2861d585-1111-491d-9f5d-3cd18ca924e8
DTSTAMP:20260426T002259Z
SUMMARY:Dankandacht der Erstkommunionkinder
DESCRIPTION:https://www2.bistum-augsburg.de/gottesdienste/dankandacht-der-e
 rstkommunionkinder_id1728517
DTSTART;TZID=Europe/Berlin:20260426T190000
DURATION:PT30M
LOCATION:St. Johannes Baptist\, Hauptstr.7\, 82380 Peißenberg
END:VEVENT
END:VCALENDAR
