BEGIN:VCALENDAR
VERSION:2.0
PRODID:-//Sabre//Sabre VObject 4.5.8//EN
CALSCALE:GREGORIAN
BEGIN:VEVENT
UID:sabre-vobject-9d51c9b8-26df-48ac-9133-ed8d8a898cf3
DTSTAMP:20260422T225212Z
SUMMARY:Sonntag-Vorabendmesse
DESCRIPTION:https://www2.bistum-augsburg.de/gottesdienste/sonntag-vorabendm
 esse_id1728536
DTSTART;TZID=Europe/Berlin:20260502T190000
DURATION:PT30M
LOCATION:Hlgst. Dreifaltigkeit\, Illerbeurer Str. 2\, 87758 Kronburg-Illerb
 euren
END:VEVENT
END:VCALENDAR
