BEGIN:VCALENDAR
VERSION:2.0
PRODID:-//Sabre//Sabre VObject 4.5.8//EN
CALSCALE:GREGORIAN
BEGIN:VEVENT
UID:sabre-vobject-41694a38-4d9b-44d6-b973-9cbfa83bd213
DTSTAMP:20260425T210015Z
SUMMARY:Festgottesdienst zu Maria Patrona Bavariae
DESCRIPTION:https://www2.bistum-augsburg.de/gottesdienste/festgottesdienst-
 zu-maria-patrona-bavariae_id1728541
DTSTART;TZID=Europe/Berlin:20260501T100000
DURATION:PT30M
LOCATION:St. Vitus\, Kirchweg 2\, 86706 Weichering
END:VEVENT
END:VCALENDAR
