BEGIN:VCALENDAR
VERSION:2.0
PRODID:-//Sabre//Sabre VObject 4.5.8//EN
CALSCALE:GREGORIAN
BEGIN:VEVENT
UID:sabre-vobject-fafcf0c0-b19b-4da0-ae9c-cd98166e325e
DTSTAMP:20260424T162944Z
SUMMARY:Rosenkranz\, Herz-Jesu-Litanei\, Sakramentaler Segen
DESCRIPTION:https://www2.bistum-augsburg.de/gottesdienste/rosenkranz-herz-j
 esu-litanei-sakramentaler-segen_id1728543
DTSTART;TZID=Europe/Berlin:20260508T173000
DURATION:PT30M
LOCATION:St. Michael\, Marxheimer Straße 2\, 86643 Rennertshofen
END:VEVENT
END:VCALENDAR
