BEGIN:VCALENDAR
VERSION:2.0
PRODID:-//Sabre//Sabre VObject 4.5.8//EN
CALSCALE:GREGORIAN
BEGIN:VEVENT
UID:sabre-vobject-44cc342a-834a-4459-b557-f0168fc1eda5
DTSTAMP:20260424T115231Z
SUMMARY:Barmherzigkeitsrosenkranz
DESCRIPTION:https://www2.bistum-augsburg.de/gottesdienste/barmherzigkeitsro
 senkranz_id1728554
DTSTART;TZID=Europe/Berlin:20260425T184500
DURATION:PT30M
LOCATION:St. Nikolaus\, Hitzenhofer Str. 1\, 87758 Kronburg-Kardorf
END:VEVENT
END:VCALENDAR
