BEGIN:VCALENDAR
VERSION:2.0
PRODID:-//Sabre//Sabre VObject 4.5.8//EN
CALSCALE:GREGORIAN
BEGIN:VEVENT
UID:sabre-vobject-7b54f8aa-7e5b-4d36-905e-6496013fd5b4
DTSTAMP:20260424T220800Z
SUMMARY:Rosenkranz und Beichtgelegenheit
DESCRIPTION:https://www2.bistum-augsburg.de/gottesdienste/rosenkranz-und-be
 ichtgelegenheit_id1728560
DTSTART;TZID=Europe/Berlin:20260425T173000
DURATION:PT30M
LOCATION:St. Franziskus
END:VEVENT
END:VCALENDAR
