BEGIN:VCALENDAR
VERSION:2.0
PRODID:-//Sabre//Sabre VObject 4.5.8//EN
CALSCALE:GREGORIAN
BEGIN:VEVENT
UID:sabre-vobject-dfc8a199-49e5-4328-9870-a3a02efdc8b9
DTSTAMP:20260423T035625Z
SUMMARY:Rosenkranz um die Gaben des Hl. Geistes
DESCRIPTION:https://www2.bistum-augsburg.de/gottesdienste/rosenkranz-um-die
 -gaben-des-hl-geistes_id1728570
DTSTART;TZID=Europe/Berlin:20260520T080000
DURATION:PT30M
LOCATION:St. Afra
END:VEVENT
END:VCALENDAR
