BEGIN:VCALENDAR
VERSION:2.0
PRODID:-//Sabre//Sabre VObject 4.5.8//EN
CALSCALE:GREGORIAN
BEGIN:VEVENT
UID:sabre-vobject-67cbe0d7-d813-423e-83fd-79f25241dc61
DTSTAMP:20260424T225059Z
SUMMARY:Erstkommunionfeier\, Hl. Messe für die verstorbenen Angehörigen d
 er Erstkommunikanten
DESCRIPTION:https://www2.bistum-augsburg.de/gottesdienste/erstkommunionfeie
 r-hl-messe-fuer-die-verstorbenen-angehoerigen-der-erstkommunikanten_id1728
 573
DTSTART;TZID=Europe/Berlin:20260426T100000
DURATION:PT30M
LOCATION:St. Peter und Paul
END:VEVENT
END:VCALENDAR
