BEGIN:VCALENDAR
VERSION:2.0
PRODID:-//Sabre//Sabre VObject 4.5.8//EN
CALSCALE:GREGORIAN
BEGIN:VEVENT
UID:sabre-vobject-1af290f6-6286-4e3b-8c30-d0f40d998293
DTSTAMP:20260423T002956Z
SUMMARY:Amtsstunde bis 18:30
DESCRIPTION:https://www2.bistum-augsburg.de/gottesdienste/amtsstunde-bis-18
 -30_id1728575
DTSTART;TZID=Europe/Berlin:20260424T180000
DURATION:PT30M
LOCATION:St. Peter und Paul\, Kirchtalstr. 2\, 87763 Lautrach
END:VEVENT
END:VCALENDAR
