BEGIN:VCALENDAR
VERSION:2.0
PRODID:-//Sabre//Sabre VObject 4.5.8//EN
CALSCALE:GREGORIAN
BEGIN:VEVENT
UID:sabre-vobject-01a83289-f358-4106-a024-6f4fd5cf0f63
DTSTAMP:20260424T162855Z
SUMMARY:Rosenkranz mit Anbetung vor dem Allerheiligsten
DESCRIPTION:https://www2.bistum-augsburg.de/gottesdienste/rosenkranz-mit-an
 betung-vor-dem-allerheiligsten_id1728591
DTSTART;TZID=Europe/Berlin:20260508T083000
DURATION:PT30M
LOCATION:St. Franziskus
END:VEVENT
END:VCALENDAR
