BEGIN:VCALENDAR
VERSION:2.0
PRODID:-//Sabre//Sabre VObject 4.5.8//EN
CALSCALE:GREGORIAN
BEGIN:VEVENT
UID:sabre-vobject-7b5f76f7-b6d2-4d8e-8563-6ae8ea1a72b5
DTSTAMP:20260422T205408Z
SUMMARY:Hl. Messe
DESCRIPTION:https://www2.bistum-augsburg.de/gottesdienste/hl-messe_id172859
 8
DTSTART;TZID=Europe/Berlin:20260428T080000
DURATION:PT30M
LOCATION:St. Jakobus maj.\, Im Tal 10\, 86529 Schrobenhausen
END:VEVENT
END:VCALENDAR
