BEGIN:VCALENDAR
VERSION:2.0
PRODID:-//Sabre//Sabre VObject 4.5.8//EN
CALSCALE:GREGORIAN
BEGIN:VEVENT
UID:sabre-vobject-e406e513-6764-421b-877b-f538a97970e7
DTSTAMP:20260424T220556Z
SUMMARY:Hl. Amt in der Pfarrkirche
DESCRIPTION:https://www2.bistum-augsburg.de/gottesdienste/hl-amt-in-der-pfa
 rrkirche_id1728615
DTSTART;TZID=Europe/Berlin:20260503T103000
DURATION:PT30M
LOCATION:St. Peter und Paul\, Kirchtalstr. 2\, 87763 Lautrach
END:VEVENT
END:VCALENDAR
