BEGIN:VCALENDAR
VERSION:2.0
PRODID:-//Sabre//Sabre VObject 4.5.8//EN
CALSCALE:GREGORIAN
BEGIN:VEVENT
UID:sabre-vobject-60ba6157-453c-4090-b65a-f298814395b7
DTSTAMP:20260424T042944Z
SUMMARY:Friedensgebet an der Kirche
DESCRIPTION:https://www2.bistum-augsburg.de/gottesdienste/friedensgebet-an-
 der-kirche_id1728619
DTSTART;TZID=Europe/Berlin:20260519T183000
DURATION:PT30M
LOCATION:St. Vitus\, Kirchweg 2\, 86706 Weichering
END:VEVENT
END:VCALENDAR
